BEGIN:VCALENDAR
VERSION:2.0
PRODID:-//Wheeling Swaminarayan Temple ISSO of Chicago - ECPv6.15.20//NONSGML v1.0//EN
CALSCALE:GREGORIAN
METHOD:PUBLISH
X-ORIGINAL-URL:https://shriji.org
X-WR-CALDESC:Events for Wheeling Swaminarayan Temple ISSO of Chicago
REFRESH-INTERVAL;VALUE=DURATION:PT1H
X-Robots-Tag:noindex
X-PUBLISHED-TTL:PT1H
BEGIN:VTIMEZONE
TZID:America/Chicago
BEGIN:DAYLIGHT
TZOFFSETFROM:-0600
TZOFFSETTO:-0500
TZNAME:CDT
DTSTART:20200308T080000
END:DAYLIGHT
BEGIN:STANDARD
TZOFFSETFROM:-0500
TZOFFSETTO:-0600
TZNAME:CST
DTSTART:20201101T070000
END:STANDARD
BEGIN:DAYLIGHT
TZOFFSETFROM:-0600
TZOFFSETTO:-0500
TZNAME:CDT
DTSTART:20210314T080000
END:DAYLIGHT
BEGIN:STANDARD
TZOFFSETFROM:-0500
TZOFFSETTO:-0600
TZNAME:CST
DTSTART:20211107T070000
END:STANDARD
BEGIN:DAYLIGHT
TZOFFSETFROM:-0600
TZOFFSETTO:-0500
TZNAME:CDT
DTSTART:20220313T080000
END:DAYLIGHT
BEGIN:STANDARD
TZOFFSETFROM:-0500
TZOFFSETTO:-0600
TZNAME:CST
DTSTART:20221106T070000
END:STANDARD
END:VTIMEZONE
BEGIN:VEVENT
DTSTART;TZID=America/Chicago:20210724T063000
DTEND;TZID=America/Chicago:20210823T200000
DTSTAMP:20260420T224511
CREATED:20210719T171358Z
LAST-MODIFIED:20210719T182305Z
UID:26468-1627108200-1629748800@shriji.org
SUMMARY:Hindola Utsav
DESCRIPTION:
URL:https://shriji.org/event/hindola-utsav/
LOCATION:Shri Swaminarayan Temple\, Wheeling\, 397 Northgate Pkwy\, Wheeling\, IL\, 60090\, United States
END:VEVENT
BEGIN:VEVENT
DTSTART;TZID=America/Chicago:20210822T170000
DTEND;TZID=America/Chicago:20210822T193000
DTSTAMP:20260420T224511
CREATED:20210816T170853Z
LAST-MODIFIED:20210816T170853Z
UID:26521-1629651600-1629660600@shriji.org
SUMMARY:Raksha Bandhan
DESCRIPTION:
URL:https://shriji.org/event/raksha-bandhan-2/
LOCATION:Shri Swaminarayan Temple\, Wheeling\, 397 Northgate Pkwy\, Wheeling\, IL\, 60090\, United States
END:VEVENT
END:VCALENDAR