BEGIN:VCALENDAR
VERSION:2.0
PRODID:-//Wheeling Swaminarayan Temple ISSO of Chicago - ECPv6.15.20//NONSGML v1.0//EN
CALSCALE:GREGORIAN
METHOD:PUBLISH
X-ORIGINAL-URL:https://shriji.org
X-WR-CALDESC:Events for Wheeling Swaminarayan Temple ISSO of Chicago
REFRESH-INTERVAL;VALUE=DURATION:PT1H
X-Robots-Tag:noindex
X-PUBLISHED-TTL:PT1H
BEGIN:VTIMEZONE
TZID:America/Chicago
BEGIN:DAYLIGHT
TZOFFSETFROM:-0600
TZOFFSETTO:-0500
TZNAME:CDT
DTSTART:20210314T080000
END:DAYLIGHT
BEGIN:STANDARD
TZOFFSETFROM:-0500
TZOFFSETTO:-0600
TZNAME:CST
DTSTART:20211107T070000
END:STANDARD
BEGIN:DAYLIGHT
TZOFFSETFROM:-0600
TZOFFSETTO:-0500
TZNAME:CDT
DTSTART:20220313T080000
END:DAYLIGHT
BEGIN:STANDARD
TZOFFSETFROM:-0500
TZOFFSETTO:-0600
TZNAME:CST
DTSTART:20221106T070000
END:STANDARD
BEGIN:DAYLIGHT
TZOFFSETFROM:-0600
TZOFFSETTO:-0500
TZNAME:CDT
DTSTART:20230312T080000
END:DAYLIGHT
BEGIN:STANDARD
TZOFFSETFROM:-0500
TZOFFSETTO:-0600
TZNAME:CST
DTSTART:20231105T070000
END:STANDARD
END:VTIMEZONE
BEGIN:VEVENT
DTSTART;TZID=America/Chicago:20220528T100000
DTEND;TZID=America/Chicago:20220528T120000
DTSTAMP:20260419T131056
CREATED:20220415T014947Z
LAST-MODIFIED:20220415T014947Z
UID:26934-1653732000-1653739200@shriji.org
SUMMARY:31st Patotsav Maruti Pujan
DESCRIPTION:
URL:https://shriji.org/event/31st-patotsav-maruti-pujan/
LOCATION:Shri Swaminarayan Temple\, Wheeling\, 397 Northgate Pkwy\, Wheeling\, IL\, 60090\, United States
END:VEVENT
BEGIN:VEVENT
DTSTART;TZID=America/Chicago:20220528T150000
DTEND;TZID=America/Chicago:20220528T170000
DTSTAMP:20260419T131056
CREATED:20220321T173753Z
LAST-MODIFIED:20220321T173753Z
UID:26897-1653750000-1653757200@shriji.org
SUMMARY:31st Patotsav Mahapuja
DESCRIPTION:Contact temple to register yourself for the 31st Patotsav Samuh Mahapuja!
URL:https://shriji.org/event/31st-patotsav-mahapuja/
LOCATION:Shri Swaminarayan Temple\, Wheeling\, 397 Northgate Pkwy\, Wheeling\, IL\, 60090\, United States
END:VEVENT
BEGIN:VEVENT
DTSTART;TZID=America/Chicago:20220528T170000
DTEND;TZID=America/Chicago:20220528T190000
DTSTAMP:20260419T131056
CREATED:20220415T015142Z
LAST-MODIFIED:20220415T015142Z
UID:26940-1653757200-1653764400@shriji.org
SUMMARY:31st Patotsav - Raas Utsav & Satsang Sabha
DESCRIPTION:
URL:https://shriji.org/event/31st-patotsav-raas-utsav-satsang-sabha/
LOCATION:Shri Swaminarayan Temple\, Wheeling\, 397 Northgate Pkwy\, Wheeling\, IL\, 60090\, United States
END:VEVENT
END:VCALENDAR