BEGIN:VCALENDAR
VERSION:2.0
PRODID:-//Wheeling Swaminarayan Temple ISSO of Chicago - ECPv6.15.20//NONSGML v1.0//EN
CALSCALE:GREGORIAN
METHOD:PUBLISH
X-ORIGINAL-URL:https://shriji.org
X-WR-CALDESC:Events for Wheeling Swaminarayan Temple ISSO of Chicago
REFRESH-INTERVAL;VALUE=DURATION:PT1H
X-Robots-Tag:noindex
X-PUBLISHED-TTL:PT1H
BEGIN:VTIMEZONE
TZID:America/Chicago
BEGIN:DAYLIGHT
TZOFFSETFROM:-0600
TZOFFSETTO:-0500
TZNAME:CDT
DTSTART:20200308T080000
END:DAYLIGHT
BEGIN:STANDARD
TZOFFSETFROM:-0500
TZOFFSETTO:-0600
TZNAME:CST
DTSTART:20201101T070000
END:STANDARD
BEGIN:DAYLIGHT
TZOFFSETFROM:-0600
TZOFFSETTO:-0500
TZNAME:CDT
DTSTART:20210314T080000
END:DAYLIGHT
BEGIN:STANDARD
TZOFFSETFROM:-0500
TZOFFSETTO:-0600
TZNAME:CST
DTSTART:20211107T070000
END:STANDARD
BEGIN:DAYLIGHT
TZOFFSETFROM:-0600
TZOFFSETTO:-0500
TZNAME:CDT
DTSTART:20220313T080000
END:DAYLIGHT
BEGIN:STANDARD
TZOFFSETFROM:-0500
TZOFFSETTO:-0600
TZNAME:CST
DTSTART:20221106T070000
END:STANDARD
END:VTIMEZONE
BEGIN:VEVENT
DTSTART;TZID=America/Chicago:20211102T190000
DTEND;TZID=America/Chicago:20211102T203000
DTSTAMP:20260420T141316
CREATED:20211005T005507Z
LAST-MODIFIED:20211005T005507Z
UID:26571-1635879600-1635885000@shriji.org
SUMMARY:Dhan Teras
DESCRIPTION:
URL:https://shriji.org/event/dhan-teras/
LOCATION:Shri Swaminarayan Temple\, Wheeling\, 397 Northgate Pkwy\, Wheeling\, IL\, 60090\, United States
END:VEVENT
BEGIN:VEVENT
DTSTART;TZID=America/Chicago:20211103T190000
DTEND;TZID=America/Chicago:20211103T203000
DTSTAMP:20260420T141316
CREATED:20211005T005557Z
LAST-MODIFIED:20211005T005557Z
UID:26577-1635966000-1635971400@shriji.org
SUMMARY:Kali Chaudas
DESCRIPTION:
URL:https://shriji.org/event/kali-chaudas/
LOCATION:Shri Swaminarayan Temple\, Wheeling\, 397 Northgate Pkwy\, Wheeling\, IL\, 60090\, United States
END:VEVENT
BEGIN:VEVENT
DTSTART;TZID=America/Chicago:20211104T190000
DTEND;TZID=America/Chicago:20211104T203000
DTSTAMP:20260420T141316
CREATED:20211005T005652Z
LAST-MODIFIED:20211005T005652Z
UID:26579-1636052400-1636057800@shriji.org
SUMMARY:Diwali
DESCRIPTION:
URL:https://shriji.org/event/diwali/
LOCATION:Shri Swaminarayan Temple\, Wheeling\, 397 Northgate Pkwy\, Wheeling\, IL\, 60090\, United States
END:VEVENT
BEGIN:VEVENT
DTSTART;VALUE=DATE:20211105
DTEND;VALUE=DATE:20211106
DTSTAMP:20260420T141316
CREATED:20211005T005745Z
LAST-MODIFIED:20211101T203630Z
UID:26581-1636070400-1636156799@shriji.org
SUMMARY:Hindu New Year
DESCRIPTION:
URL:https://shriji.org/event/new-year/
LOCATION:Shri Swaminarayan Temple\, Wheeling\, 397 Northgate Pkwy\, Wheeling\, IL\, 60090\, United States
END:VEVENT
BEGIN:VEVENT
DTSTART;TZID=America/Chicago:20211107T100000
DTEND;TZID=America/Chicago:20211107T130000
DTSTAMP:20260420T141316
CREATED:20210920T205552Z
LAST-MODIFIED:20211005T011204Z
UID:26567-1636279200-1636290000@shriji.org
SUMMARY:Diwali Annakut Samaiyo
DESCRIPTION:
URL:https://shriji.org/event/diwali-annakut-samaiyo/
LOCATION:Shri Swaminarayan Temple\, Wheeling\, 397 Northgate Pkwy\, Wheeling\, IL\, 60090\, United States
END:VEVENT
END:VCALENDAR