BEGIN:VCALENDAR
VERSION:2.0
PRODID:-//Wheeling Swaminarayan Temple ISSO of Chicago - ECPv6.15.20//NONSGML v1.0//EN
CALSCALE:GREGORIAN
METHOD:PUBLISH
X-ORIGINAL-URL:https://shriji.org
X-WR-CALDESC:Events for Wheeling Swaminarayan Temple ISSO of Chicago
REFRESH-INTERVAL;VALUE=DURATION:PT1H
X-Robots-Tag:noindex
X-PUBLISHED-TTL:PT1H
BEGIN:VTIMEZONE
TZID:America/Chicago
BEGIN:DAYLIGHT
TZOFFSETFROM:-0600
TZOFFSETTO:-0500
TZNAME:CDT
DTSTART:20210314T080000
END:DAYLIGHT
BEGIN:STANDARD
TZOFFSETFROM:-0500
TZOFFSETTO:-0600
TZNAME:CST
DTSTART:20211107T070000
END:STANDARD
BEGIN:DAYLIGHT
TZOFFSETFROM:-0600
TZOFFSETTO:-0500
TZNAME:CDT
DTSTART:20220313T080000
END:DAYLIGHT
BEGIN:STANDARD
TZOFFSETFROM:-0500
TZOFFSETTO:-0600
TZNAME:CST
DTSTART:20221106T070000
END:STANDARD
BEGIN:DAYLIGHT
TZOFFSETFROM:-0600
TZOFFSETTO:-0500
TZNAME:CDT
DTSTART:20230312T080000
END:DAYLIGHT
BEGIN:STANDARD
TZOFFSETFROM:-0500
TZOFFSETTO:-0600
TZNAME:CST
DTSTART:20231105T070000
END:STANDARD
END:VTIMEZONE
BEGIN:VEVENT
DTSTART;TZID=America/Chicago:20220102T163000
DTEND;TZID=America/Chicago:20220102T190000
DTSTAMP:20260420T142655
CREATED:20211216T191733Z
LAST-MODIFIED:20220101T193448Z
UID:26639-1641141000-1641150000@shriji.org
SUMMARY:Shri Swaminarayan Mahamantra - 220th Pragatya Din
DESCRIPTION:
URL:https://shriji.org/event/shri-swaminarayan-mahamantra-220th-pragatya-din/
LOCATION:Shri Swaminarayan Temple\, Wheeling\, 397 Northgate Pkwy\, Wheeling\, IL\, 60090\, United States
END:VEVENT
BEGIN:VEVENT
DTSTART;VALUE=DATE:20220109
DTEND;VALUE=DATE:20220110
DTSTAMP:20260420T142655
CREATED:20211216T191958Z
LAST-MODIFIED:20211216T191958Z
UID:26644-1641686400-1641772799@shriji.org
SUMMARY:Makar Sankranti & Uttarayan Annakut
DESCRIPTION:
URL:https://shriji.org/event/makar-sankranti-uttarayan-annakut/
LOCATION:Shri Swaminarayan Temple\, Wheeling\, 397 Northgate Pkwy\, Wheeling\, IL\, 60090\, United States
END:VEVENT
BEGIN:VEVENT
DTSTART;TZID=America/Chicago:20220116T163000
DTEND;TZID=America/Chicago:20220116T190000
DTSTAMP:20260420T142655
CREATED:20220101T193404Z
LAST-MODIFIED:20220101T193404Z
UID:26648-1642350600-1642359600@shriji.org
SUMMARY:Shakotsav
DESCRIPTION:
URL:https://shriji.org/event/shakotsav1/
LOCATION:Shri Swaminarayan Temple\, Wheeling\, 397 Northgate Pkwy\, Wheeling\, IL\, 60090\, United States
END:VEVENT
BEGIN:VEVENT
DTSTART;TZID=America/Chicago:20220130T163000
DTEND;TZID=America/Chicago:20220130T190000
DTSTAMP:20260420T142655
CREATED:20220101T193635Z
LAST-MODIFIED:20220124T174356Z
UID:26651-1643560200-1643569200@shriji.org
SUMMARY:India's Republic Day Celebration
DESCRIPTION:
URL:https://shriji.org/event/indias-republic-day-celebration/
LOCATION:Shri Swaminarayan Temple\, Wheeling\, 397 Northgate Pkwy\, Wheeling\, IL\, 60090\, United States
END:VEVENT
END:VCALENDAR