BEGIN:VCALENDAR
VERSION:2.0
PRODID:-//Wheeling Swaminarayan Temple ISSO of Chicago - ECPv6.15.20//NONSGML v1.0//EN
CALSCALE:GREGORIAN
METHOD:PUBLISH
X-WR-CALNAME:Wheeling Swaminarayan Temple ISSO of Chicago
X-ORIGINAL-URL:https://shriji.org
X-WR-CALDESC:Events for Wheeling Swaminarayan Temple ISSO of Chicago
REFRESH-INTERVAL;VALUE=DURATION:PT1H
X-Robots-Tag:noindex
X-PUBLISHED-TTL:PT1H
BEGIN:VTIMEZONE
TZID:America/Chicago
BEGIN:DAYLIGHT
TZOFFSETFROM:-0600
TZOFFSETTO:-0500
TZNAME:CDT
DTSTART:20210314T080000
END:DAYLIGHT
BEGIN:STANDARD
TZOFFSETFROM:-0500
TZOFFSETTO:-0600
TZNAME:CST
DTSTART:20211107T070000
END:STANDARD
BEGIN:DAYLIGHT
TZOFFSETFROM:-0600
TZOFFSETTO:-0500
TZNAME:CDT
DTSTART:20220313T080000
END:DAYLIGHT
BEGIN:STANDARD
TZOFFSETFROM:-0500
TZOFFSETTO:-0600
TZNAME:CST
DTSTART:20221106T070000
END:STANDARD
BEGIN:DAYLIGHT
TZOFFSETFROM:-0600
TZOFFSETTO:-0500
TZNAME:CDT
DTSTART:20230312T080000
END:DAYLIGHT
BEGIN:STANDARD
TZOFFSETFROM:-0500
TZOFFSETTO:-0600
TZNAME:CST
DTSTART:20231105T070000
END:STANDARD
END:VTIMEZONE
BEGIN:VEVENT
DTSTART;TZID=America/Chicago:20220317T170000
DTEND;TZID=America/Chicago:20220317T193000
DTSTAMP:20260420T012723
CREATED:20220101T194509Z
LAST-MODIFIED:20220223T014329Z
UID:26664-1647536400-1647545400@shriji.org
SUMMARY:Holi
DESCRIPTION:
URL:https://shriji.org/event/holi/
LOCATION:Shri Swaminarayan Temple\, Wheeling\, 397 Northgate Pkwy\, Wheeling\, IL\, 60090\, United States
END:VEVENT
BEGIN:VEVENT
DTSTART;TZID=America/Chicago:20220320T163000
DTEND;TZID=America/Chicago:20220320T190000
DTSTAMP:20260420T012723
CREATED:20220101T194701Z
LAST-MODIFIED:20220124T175733Z
UID:26667-1647793800-1647802800@shriji.org
SUMMARY:Narnarayan Dev Jayanti
DESCRIPTION:
URL:https://shriji.org/event/narnarayan-dev-jayanti/
LOCATION:Shri Swaminarayan Temple\, Wheeling\, 397 Northgate Pkwy\, Wheeling\, IL\, 60090\, United States
END:VEVENT
BEGIN:VEVENT
DTSTART;TZID=America/Chicago:20220327T163000
DTEND;TZID=America/Chicago:20220327T190000
DTSTAMP:20260420T012723
CREATED:20220101T195431Z
LAST-MODIFIED:20220124T175937Z
UID:26670-1648398600-1648407600@shriji.org
SUMMARY:Lalji Maharaj's 48th Janmotsav
DESCRIPTION:
URL:https://shriji.org/event/lalji-maharaj-janmotsav/
LOCATION:Shri Swaminarayan Temple\, Wheeling\, 397 Northgate Pkwy\, Wheeling\, IL\, 60090\, United States
END:VEVENT
END:VCALENDAR